BEGIN:VCALENDAR
VERSION:2.0
PRODID:-//Cannabrite NYC - ECPv6.15.20//NONSGML v1.0//EN
CALSCALE:GREGORIAN
METHOD:PUBLISH
X-WR-CALNAME:Cannabrite NYC
X-ORIGINAL-URL:https://cannabritenyc.com
X-WR-CALDESC:Events for Cannabrite NYC
REFRESH-INTERVAL;VALUE=DURATION:PT1H
X-Robots-Tag:noindex
X-PUBLISHED-TTL:PT1H
BEGIN:VTIMEZONE
TZID:America/New_York
BEGIN:DAYLIGHT
TZOFFSETFROM:-0500
TZOFFSETTO:-0400
TZNAME:EDT
DTSTART:20240310T070000
END:DAYLIGHT
BEGIN:STANDARD
TZOFFSETFROM:-0400
TZOFFSETTO:-0500
TZNAME:EST
DTSTART:20241103T060000
END:STANDARD
BEGIN:DAYLIGHT
TZOFFSETFROM:-0500
TZOFFSETTO:-0400
TZNAME:EDT
DTSTART:20250309T070000
END:DAYLIGHT
BEGIN:STANDARD
TZOFFSETFROM:-0400
TZOFFSETTO:-0500
TZNAME:EST
DTSTART:20251102T060000
END:STANDARD
BEGIN:DAYLIGHT
TZOFFSETFROM:-0500
TZOFFSETTO:-0400
TZNAME:EDT
DTSTART:20260308T070000
END:DAYLIGHT
BEGIN:STANDARD
TZOFFSETFROM:-0400
TZOFFSETTO:-0500
TZNAME:EST
DTSTART:20261101T060000
END:STANDARD
END:VTIMEZONE
BEGIN:VEVENT
DTSTART;TZID=America/New_York:20250828T150000
DTEND;TZID=America/New_York:20250828T170000
DTSTAMP:20260420T091632
CREATED:20250816T180459Z
LAST-MODIFIED:20250816T180459Z
UID:10000370-1756393200-1756400400@cannabritenyc.com
SUMMARY:Meet The Brands - Customer Appreciation Event @ Trends
DESCRIPTION:bout Event\n\n\n\n​We’re excited to be bringing together 20+ legal New York brands so you can have the chance to meet & see their newest products firsthand. \n​To make the experience even more enjoyable\, we’ll have a live DJ spinning some tunes and tasty bites along with some elevated activities. We’re also planning on having interactive demos & guest speakers where you can learn more about the products and how they’re made. \n\n\n​4:00 PM – Welcome and Check-in \n\n\n​4:30 PM – Opening Remarks \n\n\n​5:00 PM – Brand Presentations / Guest Speakers \n\n\n​6:00 PM – Networking Session \n\n\n​7:45 PM – Closing Remarks \n\n\n​It’s all happening under one roof at Trends Dispensary\, and we’d love for you to be a part of it. \n\n\n\n\n\nLocation\n\n\n\n\nTrends Cannabis Dispensary NYC\n27-25 44th Dr\, Long Island City\, NY 11101\, USA
URL:https://cannabritenyc.com/event/meet-the-brands-customer-appreciation-event-trends/
LOCATION:Trends\, 27-25 44th Dr\, Long Island City\, NY\, 11101
CATEGORIES:Dispensary,Featured Dispensary
ATTACH;FMTTYPE=image/avif:https://cannabritenyc.com/wp-content/uploads/2025/08/ivh.avif
END:VEVENT
BEGIN:VEVENT
DTSTART;TZID=America/New_York:20250828T160000
DTEND;TZID=America/New_York:20250828T193000
DTSTAMP:20260420T091632
CREATED:20250628T003210Z
LAST-MODIFIED:20250628T003210Z
UID:10000309-1756396800-1756409400@cannabritenyc.com
SUMMARY:CONBUD BX Thirsty Thursday
DESCRIPTION:
URL:https://cannabritenyc.com/event/conbud-bx-thirsty-thursday/2025-08-28/
LOCATION:Conbud Yankee Stadium\, 98 Gerard Ave\, Bronx\, NY 10452\, 98 Gerard Ave\, Bronx\, NY 10452\, NY\, 98 Gerard Ave\, Bronx\, NY 10452\, United States
CATEGORIES:Dispensary
ATTACH;FMTTYPE=image/jpeg:https://cannabritenyc.com/wp-content/uploads/2025/06/IMG_8563.jpg
END:VEVENT
BEGIN:VEVENT
DTSTART;TZID=America/New_York:20250828T230000
DTEND;TZID=America/New_York:20250828T230000
DTSTAMP:20260420T091632
CREATED:20250801T060448Z
LAST-MODIFIED:20250810T004220Z
UID:10000352-1756422000-1756422000@cannabritenyc.com
SUMMARY:Cannavita Comedy Show
DESCRIPTION:
URL:https://cannabritenyc.com/event/cannavita-comedy-show/
LOCATION:Cannavita\, 30-30 Steinway St\, Astoria\, NY 11103\, 30-30 Steinway St\, Astoria\, NY 11103\, NY\, United States
CATEGORIES:Comedy,Dispensary
ATTACH;FMTTYPE=image/jpeg:https://cannabritenyc.com/wp-content/uploads/2025/08/IMG_0199.jpg
END:VEVENT
END:VCALENDAR