BEGIN:VCALENDAR
VERSION:2.0
PRODID:-//Cannabrite NYC - ECPv6.15.20//NONSGML v1.0//EN
CALSCALE:GREGORIAN
METHOD:PUBLISH
X-WR-CALNAME:Cannabrite NYC
X-ORIGINAL-URL:https://cannabritenyc.com
X-WR-CALDESC:Events for Cannabrite NYC
REFRESH-INTERVAL;VALUE=DURATION:PT1H
X-Robots-Tag:noindex
X-PUBLISHED-TTL:PT1H
BEGIN:VTIMEZONE
TZID:America/New_York
BEGIN:DAYLIGHT
TZOFFSETFROM:-0500
TZOFFSETTO:-0400
TZNAME:EDT
DTSTART:20240310T070000
END:DAYLIGHT
BEGIN:STANDARD
TZOFFSETFROM:-0400
TZOFFSETTO:-0500
TZNAME:EST
DTSTART:20241103T060000
END:STANDARD
BEGIN:DAYLIGHT
TZOFFSETFROM:-0500
TZOFFSETTO:-0400
TZNAME:EDT
DTSTART:20250309T070000
END:DAYLIGHT
BEGIN:STANDARD
TZOFFSETFROM:-0400
TZOFFSETTO:-0500
TZNAME:EST
DTSTART:20251102T060000
END:STANDARD
BEGIN:DAYLIGHT
TZOFFSETFROM:-0500
TZOFFSETTO:-0400
TZNAME:EDT
DTSTART:20260308T070000
END:DAYLIGHT
BEGIN:STANDARD
TZOFFSETFROM:-0400
TZOFFSETTO:-0500
TZNAME:EST
DTSTART:20261101T060000
END:STANDARD
END:VTIMEZONE
BEGIN:VEVENT
DTSTART;TZID=America/New_York:20250505T190000
DTEND;TZID=America/New_York:20250505T210000
DTSTAMP:20260424T123209
CREATED:20250505T215407Z
LAST-MODIFIED:20250505T215407Z
UID:9398-1746471600-1746478800@cannabritenyc.com
SUMMARY:Puff and Paint with Electraleaf and Paint N' Pour
DESCRIPTION:Join us for a paint lesson with Paint n’ Pour and giveaways by Electrealeaf. \nLocal lite bites served. \nAll paint supplies included and you get to take home your masterpiece and enjoy some puffs as you create! \n21+ only. \n\n\n	Related
URL:https://cannabritenyc.com/event/puff-and-paint-with-electraleaf-and-paint-n-pour/
LOCATION:Alta Dispensary\, 52A Kenmare Street\, New York\, NY\, 10012\, United States
CATEGORIES:Art,Dispensary,Nightlife
ATTACH;FMTTYPE=image/jpeg:https://cannabritenyc.com/wp-content/uploads/2025/05/Instagram-Post-45-4.jpg
ORGANIZER;CN="Alta Dispensary":MAILTO:hello@altadispensary.nyc
END:VEVENT
END:VCALENDAR